BEGIN:VCALENDAR
VERSION:2.0
PRODID:-//Squarespace Inc/Squarespace 6//v6//EN
BEGIN:VEVENT
UID:5a77ddb70d929789ff30ddf6@squarespace.com
DTSTAMP:20181204T221113Z
DTSTART:20180818T000000Z
DTEND:20180818T040000Z
SUMMARY:TRADITIONAL WEAVING
GEO:-34.178243;151.119647
LOCATION:Pocket City Farms\, 31A Mallett Street\, Camperdown\, NSW\, 2050\, 
 Australia
END:VEVENT
END:VCALENDAR
