BEGIN:VCALENDAR
VERSION:2.0
PRODID:-//Squarespace Inc/Squarespace 6//v6//EN
BEGIN:VEVENT
UID:5a0e2e26c830258272eceaf1@squarespace.com
DTSTAMP:20180821T011408Z
DTSTART:20180901T000000Z
DTEND:20180901T020000Z
SUMMARY:HOW TO BE AN UNFUCKER
GEO:-33.886897;151.176639
LOCATION:Pocket City Farms\, 31A Mallett Street\, Camperdown\, NSW\, 2050\, 
 Australia
END:VEVENT
END:VCALENDAR
