BEGIN:VCALENDAR
VERSION:2.0
PRODID:-//Squarespace Inc/Squarespace 6//v6//EN
BEGIN:VEVENT
UID:5acd441888251ba3fcb5c7c2@squarespace.com
DTSTAMP:20180811T041502Z
DTSTART:20180707T000000Z
DTEND:20180707T060000Z
SUMMARY:BOTANICAL ILLUSTRATION
GEO:-33.886897;151.176639
LOCATION:Pocket City Farms\, 31A Mallett Street\, Camperdown\, NSW\, 2050\, 
 Australia
END:VEVENT
END:VCALENDAR
