BEGIN:VCALENDAR
VERSION:2.0
PRODID:-//Squarespace Inc/Squarespace 6//v6//EN
BEGIN:VEVENT
UID:5b15c9d9f950b705401403ad@squarespace.com
DTSTAMP:20181201T044603Z
DTSTART:20180818T000000Z
DTEND:20180818T020000Z
SUMMARY:DEHYDRATING FOOD
END:VEVENT
END:VCALENDAR
