BEGIN:VCALENDAR
VERSION:2.0
PRODID:-//Squarespace Inc/Squarespace 6//v6//EN
BEGIN:VEVENT
UID:5aa9c8b6e2c4830ec13cfbf9@squarespace.com
DTSTAMP:20180315T051817Z
DTSTART:20180330T220000Z
DTEND:20180331T020000Z
SUMMARY:EASTER FARM STALL + MORE
END:VEVENT
END:VCALENDAR
