BEGIN:VCALENDAR
VERSION:2.0
PRODID:-//Squarespace Inc/Squarespace 6//v6//EN
BEGIN:VEVENT
UID:5a962dee0d9297258f31faa8@squarespace.com
DTSTAMP:20180329T235332Z
DTSTART:20180404T080000Z
DTEND:20180404T110000Z
SUMMARY:FARM CHATS // A SUSTAINABLE KITCHEN
END:VEVENT
END:VCALENDAR
