BEGIN:VCALENDAR
VERSION:2.0
PRODID:-//Squarespace Inc/Squarespace 6//v6//EN
BEGIN:VEVENT
UID:5ac6b72f0e2e72e497a0292a@squarespace.com
DTSTAMP:20180830T090338Z
DTSTART:20180905T080000Z
DTEND:20180905T100000Z
SUMMARY:FARM CHATS // NATIVE FOODS
END:VEVENT
END:VCALENDAR
