BEGIN:VCALENDAR
VERSION:2.0
PRODID:-//Squarespace Inc/Squarespace 6//v6//EN
BEGIN:VEVENT
UID:5c19a32f352f53d383cbaa13@squarespace.com
DTSTAMP:20190201T040928Z
DTSTART:20190206T070000Z
DTEND:20190206T090000Z
SUMMARY:FARM CHATS // FAIR FOOD IN THE CITY
END:VEVENT
END:VCALENDAR
