BEGIN:VCALENDAR
VERSION:2.0
PRODID:-//Squarespace Inc/Squarespace 6//v6//EN
BEGIN:VEVENT
UID:5a06615171c10b6a45d92d45@squarespace.com
DTSTAMP:20180205T053505Z
DTSTART:20180207T070000Z
DTEND:20180207T090000Z
SUMMARY:FARM CHATS // URBAN FARMING 
END:VEVENT
END:VCALENDAR
