BEGIN:VCALENDAR
VERSION:2.0
PRODID:-//Squarespace Inc/Squarespace 6//v6//EN
BEGIN:VEVENT
UID:5a39bf3df9619a1f4528058d@squarespace.com
DTSTAMP:20180426T235804Z
DTSTART:20180502T080000Z
DTEND:20180502T110000Z
SUMMARY:FARM CHATS // WASTE WARRIORS
END:VEVENT
END:VCALENDAR
