BEGIN:VCALENDAR
VERSION:2.0
PRODID:-//Squarespace Inc/Squarespace 6//v6//EN
BEGIN:VEVENT
UID:5b0ba92faa4a9903320f07d8@squarespace.com
DTSTAMP:20180529T235105Z
DTSTART:20180627T080000Z
DTEND:20180627T110000Z
SUMMARY:FARM CHATS // YOUNG FARMERS
GEO:-33.886897;151.176639
LOCATION:Pocket City Farms\, 31A Mallett Street\, Camperdown\, NSW\, 2050\, 
 Australia
END:VEVENT
END:VCALENDAR
