BEGIN:VCALENDAR
VERSION:2.0
PRODID:-//Squarespace Inc/Squarespace 6//v6//EN
BEGIN:VEVENT
UID:5a174dcc53450a9c54e34d0e@squarespace.com
DTSTAMP:20180112T053315Z
DTSTART:20180203T230000Z
DTEND:20180204T013000Z
SUMMARY:SEASONAL FERMENTS // FEBRUARY
END:VEVENT
END:VCALENDAR
