BEGIN:VCALENDAR
VERSION:2.0
PRODID:-//Squarespace Inc/Squarespace 6//v6//EN
BEGIN:VEVENT
UID:5a2f2456f9619a81670117f7@squarespace.com
DTSTAMP:20180515T032044Z
DTSTART:20180526T000000Z
DTEND:20180526T030000Z
SUMMARY:WILD FOOD IN THE CITY MASTERCLASS // AUTUMN + WINTER 
GEO:-33.888087;151.176593
LOCATION:Pocket City Farms\, 31A Mallett Street\, Camperdown\, NSW\, 2050\, 
 Australia
END:VEVENT
END:VCALENDAR
