BEGIN:VCALENDAR
VERSION:2.0
PRODID:-//Squarespace Inc/Squarespace 6//v6//EN
BEGIN:VEVENT
UID:5a67f7119140b7f6271cb066@squarespace.com
DTSTAMP:20180522T235349Z
DTSTART:20180526T000000Z
DTEND:20180526T030000Z
SUMMARY:THE VERTICAL GARDEN
GEO:-33.887378;151.17654
LOCATION:Pocket City Farms\, 31A Mallett Street\, Camperdown\, NSW\, 2050\, 
 Australia
END:VEVENT
END:VCALENDAR
