BEGIN:VCALENDAR
VERSION:2.0
PRODID:-//Squarespace Inc/Squarespace 6//v6//EN
BEGIN:VEVENT
UID:5a67f289f9619aeb41e743f8@squarespace.com
DTSTAMP:20180507T020710Z
DTSTART:20180512T000000Z
DTEND:20180512T013000Z
SUMMARY:THE WONDERFUL WORLD OF COMPOST 
END:VEVENT
END:VCALENDAR
