BEGIN:VCALENDAR
VERSION:2.0
PRODID:-//Squarespace Inc/Squarespace 6//v6//EN
BEGIN:VEVENT
UID:5a57ca728165f545d7420503@squarespace.com
DTSTAMP:20181204T224339Z
DTSTART:20181026T230000Z
DTEND:20181027T030000Z
SUMMARY:BACKYARD NATURAL DYEING
GEO:-33.888003;151.176876
LOCATION:Pocket City Farms\, 31A Mallett Street\, Camperdown\, NSW\, 2050\, 
 Australia
END:VEVENT
END:VCALENDAR
