BEGIN:VCALENDAR
VERSION:2.0
PRODID:-//Squarespace Inc/Squarespace 6//v6//EN
BEGIN:VEVENT
UID:5c26e992352f53619ac0430f@squarespace.com
DTSTAMP:20190219T022537Z
DTSTART:20190518T000000Z
DTEND:20190518T050000Z
SUMMARY:BOTANICAL ILLUSTRATION
GEO:-33.886897;151.176639
LOCATION:Pocket City Farms\, 31A Mallett Street\, Camperdown\, NSW\, 2050\, 
 Australia
END:VEVENT
END:VCALENDAR
