BEGIN:VCALENDAR
VERSION:2.0
PRODID:-//Squarespace Inc/Squarespace 6//v6//EN
BEGIN:VEVENT
UID:5b6e62c6cd83663481baec31@squarespace.com
DTSTAMP:20180925T201300Z
DTSTART:20181019T230000Z
DTEND:20181020T040000Z
SUMMARY:BOTANICAL PAINTING //  WITH JO TRUMAN
GEO:-33.886897;151.176639
LOCATION:Pocket City Farms\, 31A Mallett Street\, Camperdown\, NSW\, 2050\, 
 Australia
END:VEVENT
END:VCALENDAR
