BEGIN:VCALENDAR
VERSION:2.0
PRODID:-//Squarespace Inc/Squarespace 6//v6//EN
BEGIN:VEVENT
UID:5acd818e1ae6cf6889be21a7@squarespace.com
DTSTAMP:20181113T225433Z
DTSTART:20180915T000000Z
DTEND:20180915T030000Z
SUMMARY:THE BUSH TUCKER GARDEN
GEO:-33.88899;151.176387
LOCATION:Pocket City Farms\, 31A Mallett Street\, Camperdown\, NSW\, 2050\, 
 Australia
END:VEVENT
END:VCALENDAR
