BEGIN:VCALENDAR
VERSION:2.0
PRODID:-//Squarespace Inc/Squarespace 6//v6//EN
BEGIN:VEVENT
UID:5bea58531ae6cf9c49f53713@squarespace.com
DTSTAMP:20181206T105519Z
DTSTART:20181222T220000Z
DTEND:20181223T030000Z
SUMMARY:CHRISTMAS FARM STALL
GEO:-33.888017;151.176437
LOCATION:Pocket City Farms\, 31A Mallet St\, Camperdown\, Sydney\, NSW\, 20
 50\, Australia
END:VEVENT
END:VCALENDAR
