BEGIN:VCALENDAR
VERSION:2.0
PRODID:-//Squarespace Inc/Squarespace 6//v6//EN
BEGIN:VEVENT
UID:5a5bfa25652dea17cc321246@squarespace.com
DTSTAMP:20180123T235644Z
DTSTART:20180505T010000Z
DTEND:20180505T040000Z
SUMMARY:COCKTAILS\, TEAS + EDIBLE FLOWERS
END:VEVENT
END:VCALENDAR
