BEGIN:VCALENDAR
VERSION:2.0
PRODID:-//Squarespace Inc/Squarespace 6//v6//EN
BEGIN:VEVENT
UID:5be91a30cd8366853dab4897@squarespace.com
DTSTAMP:20181119T023654Z
DTSTART:20181202T013000Z
DTEND:20181202T043000Z
SUMMARY:COMMUNITY POT LUCK
GEO:-33.888017;151.176437
LOCATION:Pocket City Farms\, 31A Mallett Street\, Camperdown\, NSW\, 2050\, 
 Australia
END:VEVENT
END:VCALENDAR
