BEGIN:VCALENDAR
VERSION:2.0
PRODID:-//Squarespace Inc/Squarespace 6//v6//EN
BEGIN:VEVENT
UID:5c070fe31ae6cff0f3458fd4@squarespace.com
DTSTAMP:20190206T232753Z
DTSTART:20190323T000000Z
DTEND:20190323T010000Z
SUMMARY:COMPOST 101
GEO:-33.888017;151.176437
LOCATION:Pocket City Farms\, 31A Mallett Street\, Camperdown\, NSW\, 2050\, 
 Australia
END:VEVENT
END:VCALENDAR
