BEGIN:VCALENDAR
VERSION:2.0
PRODID:-//Squarespace Inc/Squarespace 6//v6//EN
BEGIN:VEVENT
UID:5b7a3f280e2e72ace0f01905@squarespace.com
DTSTAMP:20181204T233811Z
DTSTART:20181020T000000Z
DTEND:20181020T010000Z
SUMMARY:COMPOST 101 WITH ZAG
GEO:-33.888017;151.176437
LOCATION:Pocket City Farms\, 31A Mallett Street\, Camperdown\, NSW\, 2050\, 
 Australia
END:VEVENT
END:VCALENDAR
