BEGIN:VCALENDAR
VERSION:2.0
PRODID:-//Squarespace Inc/Squarespace 6//v6//EN
BEGIN:VEVENT
UID:5a18d9ab71c10b644b76db9a@squarespace.com
DTSTAMP:20171125T024934Z
DTSTART:20180420T233000Z
DTEND:20180421T010000Z
SUMMARY:CROP SWAP // APRIL
GEO:-33.88899;151.176387
LOCATION:Camperdown Commons\, 31A Mallett Street\, Camperdown\, NSW\, 2050\
 , Australia
END:VEVENT
END:VCALENDAR
