BEGIN:VCALENDAR
VERSION:2.0
PRODID:-//Squarespace Inc/Squarespace 6//v6//EN
BEGIN:VEVENT
UID:5c2831da70a6adae0b1eaf56@squarespace.com
DTSTAMP:20181230T025422Z
DTSTART:20190405T223000Z
DTEND:20190406T000000Z
SUMMARY:CROP SWAP // APRIL
GEO:-33.88899;151.176387
LOCATION:Camperdown Commons\, 31A Mallett Street\, Camperdown\, NSW\, 2050\
 , Australia
END:VEVENT
END:VCALENDAR
