BEGIN:VCALENDAR
VERSION:2.0
PRODID:-//Squarespace Inc/Squarespace 6//v6//EN
BEGIN:VEVENT
UID:5975d26429687fd9f2b9b064@squarespace.com
DTSTAMP:20171120T013222Z
DTSTART:20171215T223000Z
DTEND:20171216T000000Z
SUMMARY:CROP SWAP // DECEMBER
GEO:-33.88899;151.176387
LOCATION:Camperdown Commons\, 31A Mallett Street\, Camperdown\, NSW\, 2050\
 , Australia
END:VEVENT
END:VCALENDAR
