BEGIN:VCALENDAR
VERSION:2.0
PRODID:-//Squarespace Inc/Squarespace 6//v6//EN
BEGIN:VEVENT
UID:5a18da814192021369d79544@squarespace.com
DTSTAMP:20171125T025134Z
DTSTART:20180223T223000Z
DTEND:20180224T000000Z
SUMMARY: CROP SWAP // FEBRUARY
GEO:-33.88899;151.176387
LOCATION:Camperdown Commons\, 31A Mallett Street\, Camperdown\, NSW\, 2050\
 , Australia
END:VEVENT
END:VCALENDAR
