BEGIN:VCALENDAR
VERSION:2.0
PRODID:-//Squarespace Inc/Squarespace 6//v6//EN
BEGIN:VEVENT
UID:5a18d826c83025aa862aef36@squarespace.com
DTSTAMP:20171125T024304Z
DTSTART:20180126T223000Z
DTEND:20180127T000000Z
SUMMARY:CROP SWAP // JANUARY
GEO:-33.88899;151.176387
LOCATION:Camperdown Commons\, 31A Mallett Street\, Camperdown\, NSW\, 2050\
 , Australia
END:VEVENT
END:VCALENDAR
