BEGIN:VCALENDAR
VERSION:2.0
PRODID:-//Squarespace Inc/Squarespace 6//v6//EN
BEGIN:VEVENT
UID:5ad0119a2b6a28b7ea9e5da7@squarespace.com
DTSTAMP:20181230T024317Z
DTSTART:20181130T223000Z
DTEND:20181201T000000Z
SUMMARY:CROP SWAP // DECEMBER
GEO:-33.88899;151.176387
LOCATION:Camperdown Commons\, 31A Mallett Street\, Camperdown\, NSW\, 2050\
 , Australia
END:VEVENT
END:VCALENDAR
