BEGIN:VCALENDAR
VERSION:2.0
PRODID:-//Squarespace Inc/Squarespace 6//v6//EN
BEGIN:VEVENT
UID:5ad0116b88251b63162d7a3f@squarespace.com
DTSTAMP:20180925T201328Z
DTSTART:20181102T223000Z
DTEND:20181103T000000Z
SUMMARY:CROP SWAP // NOVEMBER
GEO:-33.88899;151.176387
LOCATION:Pocket City Farms\, 31A Mallett Street\, Camperdown\, NSW\, 2050\, 
 Australia
END:VEVENT
END:VCALENDAR
