BEGIN:VCALENDAR
VERSION:2.0
PRODID:-//Squarespace Inc/Squarespace 6//v6//EN
BEGIN:VEVENT
UID:5ad01147f950b750de845816@squarespace.com
DTSTAMP:20180925T201124Z
DTSTART:20181005T233000Z
DTEND:20181006T010000Z
SUMMARY: CROP SWAP // OCTOBER
GEO:-33.88899;151.176387
LOCATION:Pocket City Farms\, 31A Mallett Street\, Camperdown\, NSW\, 2050\, 
 Australia
END:VEVENT
END:VCALENDAR
