BEGIN:VCALENDAR
VERSION:2.0
PRODID:-//Squarespace Inc/Squarespace 6//v6//EN
BEGIN:VEVENT
UID:5ad0107c575d1fe016bfcef3@squarespace.com
DTSTAMP:20180515T035113Z
DTSTART:20180907T233000Z
DTEND:20180908T010000Z
SUMMARY:CROP SWAP // SEPTEMBER
GEO:-33.88899;151.176387
LOCATION:Pocket City Farms\, 31A Mallett Street\, Camperdown\, NSW\, 2050\, 
 Australia
END:VEVENT
END:VCALENDAR
