BEGIN:VCALENDAR
VERSION:2.0
PRODID:-//Squarespace Inc/Squarespace 6//v6//EN
BEGIN:VEVENT
UID:5ad0105d88251b63162d4b59@squarespace.com
DTSTAMP:20180712T041927Z
DTSTART:20180810T233000Z
DTEND:20180811T010000Z
SUMMARY:CROP SWAP // AUGUST
GEO:-33.88899;151.176387
LOCATION:Pocket City Farms\, 31A Mallett Street\, Camperdown\, NSW\, 2050\, 
 Australia
END:VEVENT
END:VCALENDAR
