BEGIN:VCALENDAR
VERSION:2.0
PRODID:-//Squarespace Inc/Squarespace 6//v6//EN
BEGIN:VEVENT
UID:5a18db43e4966b1342c3e7be@squarespace.com
DTSTAMP:20180515T033030Z
DTSTART:20180615T233000Z
DTEND:20180616T010000Z
SUMMARY:CROP SWAP // JUNE
GEO:-33.88899;151.176387
LOCATION:Pocket City Farms\, 31A Mallett Street\, Camperdown\, NSW\, 2050\, 
 Australia
END:VEVENT
END:VCALENDAR
