BEGIN:VCALENDAR
VERSION:2.0
PRODID:-//Squarespace Inc/Squarespace 6//v6//EN
BEGIN:VEVENT
UID:5c2834128985832b196fd4de@squarespace.com
DTSTAMP:20181230T025900Z
DTSTART:20190531T233000Z
DTEND:20190601T010000Z
SUMMARY:CROP SWAP // JUNE
GEO:-33.88899;151.176387
LOCATION:Camperdown Commons\, 31A Mallett Street\, Camperdown\, NSW\, 2050\
 , Australia
END:VEVENT
END:VCALENDAR
