BEGIN:VCALENDAR
VERSION:2.0
PRODID:-//Squarespace Inc/Squarespace 6//v6//EN
BEGIN:VEVENT
UID:5a18d8b8085229dccc73e6c9@squarespace.com
DTSTAMP:20171125T024707Z
DTSTART:20180323T223000Z
DTEND:20180324T000000Z
SUMMARY:CROP SWAP // MARCH
GEO:-33.88899;151.176387
LOCATION:Camperdown Commons\, 31A Mallett Street\, Camperdown\, NSW\, 2050\
 , Australia
END:VEVENT
END:VCALENDAR
