BEGIN:VCALENDAR
VERSION:2.0
PRODID:-//Squarespace Inc/Squarespace 6//v6//EN
BEGIN:VEVENT
UID:5c2831634ae2379d321f44f2@squarespace.com
DTSTAMP:20181230T024754Z
DTSTART:20190308T223000Z
DTEND:20190309T000000Z
SUMMARY:CROP SWAP // MARCH
GEO:-33.88899;151.176387
LOCATION:Camperdown Commons\, 31A Mallett Street\, Camperdown\, NSW\, 2050\
 , Australia
END:VEVENT
END:VCALENDAR
