BEGIN:VCALENDAR
VERSION:2.0
PRODID:-//Squarespace Inc/Squarespace 6//v6//EN
BEGIN:VEVENT
UID:5a18dad0f9619afa6a0f0b57@squarespace.com
DTSTAMP:20180515T031241Z
DTSTART:20180518T233000Z
DTEND:20180519T010000Z
SUMMARY:CROP SWAP // MAY
GEO:-33.888087;151.176593
LOCATION:Pocket City Farms\, 31A Mallett Street\, Camperdown\, NSW\, 2050\, 
 Australia
END:VEVENT
END:VCALENDAR
