BEGIN:VCALENDAR
VERSION:2.0
PRODID:-//Squarespace Inc/Squarespace 6//v6//EN
BEGIN:VEVENT
UID:5c283474aa4a995f08a44c91@squarespace.com
DTSTAMP:20181230T030059Z
DTSTART:20190628T233000Z
DTEND:20190629T010000Z
SUMMARY:CROP SWAP // MID WINTER
GEO:-33.88899;151.176387
LOCATION:Camperdown Commons\, 31A Mallett Street\, Camperdown\, NSW\, 2050\
 , Australia
END:VEVENT
END:VCALENDAR
