BEGIN:VCALENDAR
VERSION:2.0
PRODID:-//Squarespace Inc/Squarespace 6//v6//EN
BEGIN:VEVENT
UID:5975d2387131a526076172fb@squarespace.com
DTSTAMP:20171018T004210Z
DTSTART:20171117T223000Z
DTEND:20171118T000000Z
SUMMARY:CROP SWAP // NOVEMBER
GEO:-33.88899;151.176387
LOCATION:Camperdown Commons\, 31A Mallett Street\, Camperdown\, NSW\, 2050\
 , Australia
END:VEVENT
END:VCALENDAR
