BEGIN:VCALENDAR
VERSION:2.0
PRODID:-//Squarespace Inc/Squarespace 6//v6//EN
BEGIN:VEVENT
UID:5ad010232b6a28b7ea9e1ce5@squarespace.com
DTSTAMP:20180712T004409Z
DTSTART:20180713T233000Z
DTEND:20180714T010000Z
SUMMARY:CROP SWAP // JULY
GEO:-33.88899;151.176387
LOCATION:Pocket City Farms\, 31A Mallett Street\, Camperdown\, NSW\, 2050\, 
 Australia
END:VEVENT
END:VCALENDAR
