BEGIN:VCALENDAR
VERSION:2.0
PRODID:-//Squarespace Inc/Squarespace 6//v6//EN
BEGIN:VEVENT
UID:5c02120b352f53138d2771a8@squarespace.com
DTSTAMP:20181204T235219Z
DTSTART:20190622T000000Z
DTEND:20190622T030000Z
SUMMARY:DEHYDRATING FOOD
GEO:-33.888017;151.176437
LOCATION:Pocket City Farms\, 31A Mallet St\, Camperdown\, Sydney\, NSW\, 20
 50\, Australia
END:VEVENT
END:VCALENDAR
