BEGIN:VCALENDAR
VERSION:2.0
PRODID:-//Squarespace Inc/Squarespace 6//v6//EN
BEGIN:VEVENT
UID:5c26f145c2241bc8b4d833a8@squarespace.com
DTSTAMP:20190221T045406Z
DTSTART:20190413T000000Z
DTEND:20190413T010000Z
SUMMARY:CREATURE GARDENS
GEO:-34.178243;151.119647
LOCATION:Pocket City Farms\, 31A Mallett Street\, Camperdown\, NSW\, 2050\, 
 Australia
END:VEVENT
END:VCALENDAR
