BEGIN:VCALENDAR
VERSION:2.0
PRODID:-//Squarespace Inc/Squarespace 6//v6//EN
BEGIN:VEVENT
UID:5b6e721a88251b7c2c597849@squarespace.com
DTSTAMP:20180925T201146Z
DTSTART:20181005T000000Z
DTEND:20181005T010000Z
SUMMARY:DINOSAUR + FAIRY GARDENS // SCHOOL HOLIDAYS
GEO:-34.178243;151.119647
LOCATION:Pocket City Farms\, 31A Mallett Street\, Camperdown\, NSW\, 2050\, 
 Australia
END:VEVENT
END:VCALENDAR
