BEGIN:VCALENDAR
VERSION:2.0
PRODID:-//Squarespace Inc/Squarespace 6//v6//EN
BEGIN:VEVENT
UID:5aecd527f950b738fab674be@squarespace.com
DTSTAMP:20180811T052026Z
DTSTART:20180623T010000Z
DTEND:20180623T020000Z
SUMMARY:DINOSAUR + FAIRY GARDENS
GEO:-34.178243;151.119647
LOCATION:Pocket City Farms\, 31A Mallett Street\, Camperdown\, NSW\, 2050\, 
 Australia
END:VEVENT
END:VCALENDAR
