BEGIN:VCALENDAR
VERSION:2.0
PRODID:-//Squarespace Inc/Squarespace 6//v6//EN
BEGIN:VEVENT
UID:5bd7b251419202e5d27845f5@squarespace.com
DTSTAMP:20181107T032106Z
DTSTART:20181205T070000Z
DTEND:20181205T090000Z
SUMMARY:FARM CHATS // FERMENT
GEO:-33.888017;151.176437
LOCATION:Pocket City Farms\, 31A Mallet St Camperdown\, Sydney\, Australia
END:VEVENT
END:VCALENDAR
