BEGIN:VCALENDAR
VERSION:2.0
PRODID:-//Squarespace Inc/Squarespace 6//v6//EN
BEGIN:VEVENT
UID:5b692de403ce6404fb708584@squarespace.com
DTSTAMP:20180925T201054Z
DTSTART:20181003T080000Z
DTEND:20181003T100000Z
SUMMARY:FARM CHATS // RETROSUBURBIA
GEO:-33.888017;151.176437
LOCATION:Pocket City Farms\, 31A Mallett Street\, Camperdown\, NSW\, 2050\, 
 Australia
END:VEVENT
END:VCALENDAR
