BEGIN:VCALENDAR
VERSION:2.0
PRODID:-//Squarespace Inc/Squarespace 6//v6//EN
BEGIN:VEVENT
UID:5b1619bcf950b705402072c3@squarespace.com
DTSTAMP:20180807T052804Z
DTSTART:20180801T080000Z
DTEND:20180801T100000Z
SUMMARY:FARM CHATS // TEACHING KIDS ABOUT FOOD
GEO:-33.888017;151.176437
LOCATION:Pocket City Farms\, 31A Mallett Street\, Camperdown\, NSW\, 2050\, 
 Australia
END:VEVENT
END:VCALENDAR
