BEGIN:VCALENDAR
VERSION:2.0
PRODID:-//Squarespace Inc/Squarespace 6//v6//EN
BEGIN:VEVENT
UID:5bb429c515fcc0f958a7b65c@squarespace.com
DTSTAMP:20181101T001824Z
DTSTART:20181107T070000Z
DTEND:20181107T090000Z
SUMMARY:FARM CHATS // WATER &amp\; DROUGHT
GEO:-33.888017;151.176437
LOCATION:Pocket City Farms\, 31A Mallett Street\, Camperdown\, NSW\, 2050\, 
 Australia
END:VEVENT
END:VCALENDAR
